BEGIN:VCALENDAR
VERSION:2.0
PRODID:-//Catalyst Senior High - ECPv6.15.17//NONSGML v1.0//EN
CALSCALE:GREGORIAN
METHOD:PUBLISH
X-WR-CALNAME:Catalyst Senior High
X-ORIGINAL-URL:https://catalyst.ccphilly.org
X-WR-CALDESC:Events for Catalyst Senior High
REFRESH-INTERVAL;VALUE=DURATION:PT1H
X-Robots-Tag:noindex
X-PUBLISHED-TTL:PT1H
BEGIN:VTIMEZONE
TZID:America/New_York
BEGIN:DAYLIGHT
TZOFFSETFROM:-0500
TZOFFSETTO:-0400
TZNAME:EDT
DTSTART:20230312T070000
END:DAYLIGHT
BEGIN:STANDARD
TZOFFSETFROM:-0400
TZOFFSETTO:-0500
TZNAME:EST
DTSTART:20231105T060000
END:STANDARD
BEGIN:DAYLIGHT
TZOFFSETFROM:-0500
TZOFFSETTO:-0400
TZNAME:EDT
DTSTART:20240310T070000
END:DAYLIGHT
BEGIN:STANDARD
TZOFFSETFROM:-0400
TZOFFSETTO:-0500
TZNAME:EST
DTSTART:20241103T060000
END:STANDARD
BEGIN:DAYLIGHT
TZOFFSETFROM:-0500
TZOFFSETTO:-0400
TZNAME:EDT
DTSTART:20250309T070000
END:DAYLIGHT
BEGIN:STANDARD
TZOFFSETFROM:-0400
TZOFFSETTO:-0500
TZNAME:EST
DTSTART:20251102T060000
END:STANDARD
BEGIN:DAYLIGHT
TZOFFSETFROM:-0500
TZOFFSETTO:-0400
TZNAME:EDT
DTSTART:20260308T070000
END:DAYLIGHT
BEGIN:STANDARD
TZOFFSETFROM:-0400
TZOFFSETTO:-0500
TZNAME:EST
DTSTART:20261101T060000
END:STANDARD
END:VTIMEZONE
BEGIN:VEVENT
DTSTART;TZID=America/New_York:20250430T190000
DTEND;TZID=America/New_York:20250430T190000
DTSTAMP:20260421T111939
CREATED:20240509T142332Z
LAST-MODIFIED:20240509T142332Z
UID:3723-1746039600-1746039600@catalyst.ccphilly.org
SUMMARY:Bible Study
DESCRIPTION:
URL:https://catalyst.ccphilly.org/event/bible-study-72/
LOCATION:Calvary Chapel of Philadelphia\, 13500 Philmont Ave\, Philadelphia\, PA\, 19001\, United States
ORGANIZER;CN="Chuck Chandler":MAILTO:cchandler@ccphilly.org
END:VEVENT
BEGIN:VEVENT
DTSTART;TZID=America/New_York:20250424T190000
DTEND;TZID=America/New_York:20250424T190000
DTSTAMP:20260421T111939
CREATED:20251114T183713Z
LAST-MODIFIED:20251114T183713Z
UID:3835-1745521200-1745521200@catalyst.ccphilly.org
SUMMARY:Discipleship Groups
DESCRIPTION:
URL:https://catalyst.ccphilly.org/event/discipleship-groups-15/
LOCATION:Calvary Chapel of Philadelphia\, 13500 Philmont Ave\, Philadelphia\, PA\, 19001\, United States
ORGANIZER;CN="Chuck Chandler":MAILTO:cchandler@ccphilly.org
END:VEVENT
BEGIN:VEVENT
DTSTART;TZID=America/New_York:20250423T190000
DTEND;TZID=America/New_York:20250423T190000
DTSTAMP:20260421T111939
CREATED:20240509T142331Z
LAST-MODIFIED:20240509T142331Z
UID:3722-1745434800-1745434800@catalyst.ccphilly.org
SUMMARY:Bible Study
DESCRIPTION:
URL:https://catalyst.ccphilly.org/event/bible-study-71/
LOCATION:Calvary Chapel of Philadelphia\, 13500 Philmont Ave\, Philadelphia\, PA\, 19001\, United States
ORGANIZER;CN="Chuck Chandler":MAILTO:cchandler@ccphilly.org
END:VEVENT
BEGIN:VEVENT
DTSTART;TZID=America/New_York:20250416T190000
DTEND;TZID=America/New_York:20250416T190000
DTSTAMP:20260421T111939
CREATED:20240509T142305Z
LAST-MODIFIED:20240509T142305Z
UID:3721-1744830000-1744830000@catalyst.ccphilly.org
SUMMARY:Bible Study
DESCRIPTION:
URL:https://catalyst.ccphilly.org/event/bible-study-70/
LOCATION:Calvary Chapel of Philadelphia\, 13500 Philmont Ave\, Philadelphia\, PA\, 19001\, United States
ORGANIZER;CN="Chuck Chandler":MAILTO:cchandler@ccphilly.org
END:VEVENT
BEGIN:VEVENT
DTSTART;TZID=America/New_York:20250411T190000
DTEND;TZID=America/New_York:20250411T190000
DTSTAMP:20260421T111939
CREATED:20240508T152256Z
LAST-MODIFIED:20240508T152256Z
UID:3631-1744398000-1744398000@catalyst.ccphilly.org
SUMMARY:Discipleship Groups
DESCRIPTION:
URL:https://catalyst.ccphilly.org/event/discipleship-groups-7/
CATEGORIES:Event
ORGANIZER;CN="Chuck Chandler":MAILTO:cchandler@ccphilly.org
END:VEVENT
BEGIN:VEVENT
DTSTART;TZID=America/New_York:20250409T190000
DTEND;TZID=America/New_York:20250409T190000
DTSTAMP:20260421T111939
CREATED:20240509T142304Z
LAST-MODIFIED:20240509T142304Z
UID:3720-1744225200-1744225200@catalyst.ccphilly.org
SUMMARY:Bible Study
DESCRIPTION:
URL:https://catalyst.ccphilly.org/event/bible-study-69/
LOCATION:Calvary Chapel of Philadelphia\, 13500 Philmont Ave\, Philadelphia\, PA\, 19001\, United States
ORGANIZER;CN="Chuck Chandler":MAILTO:cchandler@ccphilly.org
END:VEVENT
BEGIN:VEVENT
DTSTART;TZID=America/New_York:20250402T190000
DTEND;TZID=America/New_York:20250402T190000
DTSTAMP:20260421T111939
CREATED:20240509T142304Z
LAST-MODIFIED:20240509T142304Z
UID:3719-1743620400-1743620400@catalyst.ccphilly.org
SUMMARY:Bible Study
DESCRIPTION:
URL:https://catalyst.ccphilly.org/event/bible-study-68/
LOCATION:Calvary Chapel of Philadelphia\, 13500 Philmont Ave\, Philadelphia\, PA\, 19001\, United States
ORGANIZER;CN="Chuck Chandler":MAILTO:cchandler@ccphilly.org
END:VEVENT
BEGIN:VEVENT
DTSTART;TZID=America/New_York:20250328T190000
DTEND;TZID=America/New_York:20250328T220000
DTSTAMP:20260421T111939
CREATED:20241001T144755Z
LAST-MODIFIED:20250328T175424Z
UID:3742-1743188400-1743199200@catalyst.ccphilly.org
SUMMARY:IT Night
DESCRIPTION:
URL:https://catalyst.ccphilly.org/event/it-night/
END:VEVENT
BEGIN:VEVENT
DTSTART;TZID=America/New_York:20250327T190000
DTEND;TZID=America/New_York:20250327T190000
DTSTAMP:20260421T111939
CREATED:20251114T183710Z
LAST-MODIFIED:20251114T183710Z
UID:3833-1743102000-1743102000@catalyst.ccphilly.org
SUMMARY:Discipleship Groups
DESCRIPTION:
URL:https://catalyst.ccphilly.org/event/discipleship-groups-14/
LOCATION:Calvary Chapel of Philadelphia\, 13500 Philmont Ave\, Philadelphia\, PA\, 19001\, United States
ORGANIZER;CN="Chuck Chandler":MAILTO:cchandler@ccphilly.org
END:VEVENT
BEGIN:VEVENT
DTSTART;TZID=America/New_York:20250326T190000
DTEND;TZID=America/New_York:20250326T190000
DTSTAMP:20260421T111939
CREATED:20240509T142303Z
LAST-MODIFIED:20240509T142303Z
UID:3718-1743015600-1743015600@catalyst.ccphilly.org
SUMMARY:Bible Study
DESCRIPTION:
URL:https://catalyst.ccphilly.org/event/bible-study-67/
LOCATION:Calvary Chapel of Philadelphia\, 13500 Philmont Ave\, Philadelphia\, PA\, 19001\, United States
ORGANIZER;CN="Chuck Chandler":MAILTO:cchandler@ccphilly.org
END:VEVENT
BEGIN:VEVENT
DTSTART;TZID=America/New_York:20250319T190000
DTEND;TZID=America/New_York:20250319T190000
DTSTAMP:20260421T111939
CREATED:20240509T142302Z
LAST-MODIFIED:20240509T142302Z
UID:3717-1742410800-1742410800@catalyst.ccphilly.org
SUMMARY:Bible Study
DESCRIPTION:
URL:https://catalyst.ccphilly.org/event/bible-study-66/
LOCATION:Calvary Chapel of Philadelphia\, 13500 Philmont Ave\, Philadelphia\, PA\, 19001\, United States
ORGANIZER;CN="Chuck Chandler":MAILTO:cchandler@ccphilly.org
END:VEVENT
BEGIN:VEVENT
DTSTART;TZID=America/New_York:20250314T190000
DTEND;TZID=America/New_York:20250314T190000
DTSTAMP:20260421T111939
CREATED:20240508T152255Z
LAST-MODIFIED:20240508T152255Z
UID:3629-1741978800-1741978800@catalyst.ccphilly.org
SUMMARY:Discipleship Groups
DESCRIPTION:
URL:https://catalyst.ccphilly.org/event/discipleship-groups-6/
CATEGORIES:Event
ORGANIZER;CN="Chuck Chandler":MAILTO:cchandler@ccphilly.org
END:VEVENT
BEGIN:VEVENT
DTSTART;TZID=America/New_York:20250313T190000
DTEND;TZID=America/New_York:20250313T190000
DTSTAMP:20260421T111939
CREATED:20251114T183709Z
LAST-MODIFIED:20251114T183709Z
UID:3832-1741892400-1741892400@catalyst.ccphilly.org
SUMMARY:IT NIGHT
DESCRIPTION:
URL:https://catalyst.ccphilly.org/event/it-night-2/
LOCATION:Calvary Chapel of Philadelphia\, 13500 Philmont Ave\, Philadelphia\, PA\, 19001\, United States
ORGANIZER;CN="Chuck Chandler":MAILTO:cchandler@ccphilly.org
END:VEVENT
BEGIN:VEVENT
DTSTART;TZID=America/New_York:20250312T190000
DTEND;TZID=America/New_York:20250312T190000
DTSTAMP:20260421T111939
CREATED:20240509T142235Z
LAST-MODIFIED:20240509T142235Z
UID:3716-1741806000-1741806000@catalyst.ccphilly.org
SUMMARY:Bible Study
DESCRIPTION:
URL:https://catalyst.ccphilly.org/event/bible-study-65/
LOCATION:Calvary Chapel of Philadelphia\, 13500 Philmont Ave\, Philadelphia\, PA\, 19001\, United States
ORGANIZER;CN="Chuck Chandler":MAILTO:cchandler@ccphilly.org
END:VEVENT
BEGIN:VEVENT
DTSTART;TZID=America/New_York:20250305T190000
DTEND;TZID=America/New_York:20250305T190000
DTSTAMP:20260421T111939
CREATED:20240509T142234Z
LAST-MODIFIED:20240509T142234Z
UID:3715-1741201200-1741201200@catalyst.ccphilly.org
SUMMARY:Bible Study
DESCRIPTION:
URL:https://catalyst.ccphilly.org/event/bible-study-64/
LOCATION:Calvary Chapel of Philadelphia\, 13500 Philmont Ave\, Philadelphia\, PA\, 19001\, United States
ORGANIZER;CN="Chuck Chandler":MAILTO:cchandler@ccphilly.org
END:VEVENT
BEGIN:VEVENT
DTSTART;TZID=America/New_York:20250301T190000
DTEND;TZID=America/New_York:20250301T190000
DTSTAMP:20260421T111939
CREATED:20240508T152254Z
LAST-MODIFIED:20241003T202516Z
UID:3628-1740855600-1740855600@catalyst.ccphilly.org
SUMMARY:The Glammy's
DESCRIPTION:
URL:https://catalyst.ccphilly.org/event/praise-and-prayer-2/
CATEGORIES:Event
ORGANIZER;CN="Chuck Chandler":MAILTO:cchandler@ccphilly.org
END:VEVENT
BEGIN:VEVENT
DTSTART;TZID=America/New_York:20250228T190000
DTEND;TZID=America/New_York:20250228T190000
DTSTAMP:20260421T111939
CREATED:20251114T183709Z
LAST-MODIFIED:20251114T183709Z
UID:3831-1740769200-1740769200@catalyst.ccphilly.org
SUMMARY:The Glammy's
DESCRIPTION:
URL:https://catalyst.ccphilly.org/event/the-glammys-2/
LOCATION:Calvary Chapel of Philadelphia\, 13500 Philmont Ave\, Philadelphia\, PA\, 19001\, United States
ORGANIZER;CN="Chuck Chandler":MAILTO:cchandler@ccphilly.org
END:VEVENT
BEGIN:VEVENT
DTSTART;TZID=America/New_York:20250226T190000
DTEND;TZID=America/New_York:20250226T190000
DTSTAMP:20260421T111939
CREATED:20240509T142234Z
LAST-MODIFIED:20240509T142234Z
UID:3714-1740596400-1740596400@catalyst.ccphilly.org
SUMMARY:Bible Study
DESCRIPTION:
URL:https://catalyst.ccphilly.org/event/bible-study-63/
LOCATION:Calvary Chapel of Philadelphia\, 13500 Philmont Ave\, Philadelphia\, PA\, 19001\, United States
ORGANIZER;CN="Chuck Chandler":MAILTO:cchandler@ccphilly.org
END:VEVENT
BEGIN:VEVENT
DTSTART;TZID=America/New_York:20250219T190000
DTEND;TZID=America/New_York:20250219T190000
DTSTAMP:20260421T111939
CREATED:20240509T142233Z
LAST-MODIFIED:20240509T142233Z
UID:3713-1739991600-1739991600@catalyst.ccphilly.org
SUMMARY:Bible Study
DESCRIPTION:
URL:https://catalyst.ccphilly.org/event/bible-study-62/
LOCATION:Calvary Chapel of Philadelphia\, 13500 Philmont Ave\, Philadelphia\, PA\, 19001\, United States
ORGANIZER;CN="Chuck Chandler":MAILTO:cchandler@ccphilly.org
END:VEVENT
BEGIN:VEVENT
DTSTART;TZID=America/New_York:20250214T190000
DTEND;TZID=America/New_York:20250214T190000
DTSTAMP:20260421T111939
CREATED:20240508T152253Z
LAST-MODIFIED:20240508T152253Z
UID:3627-1739559600-1739559600@catalyst.ccphilly.org
SUMMARY:Discipleship Groups
DESCRIPTION:
URL:https://catalyst.ccphilly.org/event/discipleship-groups-5/
CATEGORIES:Event
ORGANIZER;CN="Chuck Chandler":MAILTO:cchandler@ccphilly.org
END:VEVENT
BEGIN:VEVENT
DTSTART;TZID=America/New_York:20250212T190000
DTEND;TZID=America/New_York:20250212T190000
DTSTAMP:20260421T111939
CREATED:20240509T142232Z
LAST-MODIFIED:20240821T185112Z
UID:3712-1739386800-1739386800@catalyst.ccphilly.org
SUMMARY:Bible Study
DESCRIPTION:
URL:https://catalyst.ccphilly.org/event/bible-study-61/
LOCATION:Calvary Chapel of Philadelphia\, 13500 Philmont Ave\, Philadelphia\, PA\, 19001\, United States
ORGANIZER;CN="Chuck Chandler":MAILTO:cchandler@ccphilly.org
END:VEVENT
BEGIN:VEVENT
DTSTART;TZID=America/New_York:20250205T190000
DTEND;TZID=America/New_York:20250205T190000
DTSTAMP:20260421T111939
CREATED:20240509T142204Z
LAST-MODIFIED:20240509T142204Z
UID:3711-1738782000-1738782000@catalyst.ccphilly.org
SUMMARY:Bible Study
DESCRIPTION:
URL:https://catalyst.ccphilly.org/event/bible-study-60/
LOCATION:Calvary Chapel of Philadelphia\, 13500 Philmont Ave\, Philadelphia\, PA\, 19001\, United States
ORGANIZER;CN="Chuck Chandler":MAILTO:cchandler@ccphilly.org
END:VEVENT
BEGIN:VEVENT
DTSTART;TZID=America/New_York:20250129T190000
DTEND;TZID=America/New_York:20250129T190000
DTSTAMP:20260421T111939
CREATED:20240509T142204Z
LAST-MODIFIED:20240509T142204Z
UID:3710-1738177200-1738177200@catalyst.ccphilly.org
SUMMARY:Bible Study
DESCRIPTION:
URL:https://catalyst.ccphilly.org/event/bible-study-59/
LOCATION:Calvary Chapel of Philadelphia\, 13500 Philmont Ave\, Philadelphia\, PA\, 19001\, United States
ORGANIZER;CN="Chuck Chandler":MAILTO:cchandler@ccphilly.org
END:VEVENT
BEGIN:VEVENT
DTSTART;TZID=America/New_York:20250124T130000
DTEND;TZID=America/New_York:20250126T130000
DTSTAMP:20260421T111939
CREATED:20240508T152241Z
LAST-MODIFIED:20240821T184306Z
UID:3626-1737723600-1737896400@catalyst.ccphilly.org
SUMMARY:Senior Prayer Retreat
DESCRIPTION:
URL:https://catalyst.ccphilly.org/event/senior-prayer-retreat/
CATEGORIES:Event
ORGANIZER;CN="Chuck Chandler":MAILTO:cchandler@ccphilly.org
END:VEVENT
BEGIN:VEVENT
DTSTART;TZID=America/New_York:20250122T190000
DTEND;TZID=America/New_York:20250122T190000
DTSTAMP:20260421T111939
CREATED:20240509T142203Z
LAST-MODIFIED:20240509T142203Z
UID:3709-1737572400-1737572400@catalyst.ccphilly.org
SUMMARY:Bible Study
DESCRIPTION:
URL:https://catalyst.ccphilly.org/event/bible-study-58/
LOCATION:Calvary Chapel of Philadelphia\, 13500 Philmont Ave\, Philadelphia\, PA\, 19001\, United States
ORGANIZER;CN="Chuck Chandler":MAILTO:cchandler@ccphilly.org
END:VEVENT
BEGIN:VEVENT
DTSTART;TZID=America/New_York:20250115T190000
DTEND;TZID=America/New_York:20250115T190000
DTSTAMP:20260421T111939
CREATED:20240509T142203Z
LAST-MODIFIED:20240509T142203Z
UID:3708-1736967600-1736967600@catalyst.ccphilly.org
SUMMARY:Bible Study
DESCRIPTION:
URL:https://catalyst.ccphilly.org/event/bible-study-57/
LOCATION:Calvary Chapel of Philadelphia\, 13500 Philmont Ave\, Philadelphia\, PA\, 19001\, United States
ORGANIZER;CN="Chuck Chandler":MAILTO:cchandler@ccphilly.org
END:VEVENT
BEGIN:VEVENT
DTSTART;TZID=America/New_York:20250110T190000
DTEND;TZID=America/New_York:20250110T190000
DTSTAMP:20260421T111939
CREATED:20240508T152240Z
LAST-MODIFIED:20240508T152240Z
UID:3625-1736535600-1736535600@catalyst.ccphilly.org
SUMMARY:Discipleship Groups
DESCRIPTION:
URL:https://catalyst.ccphilly.org/event/discipleship-groups-4/
CATEGORIES:Event
ORGANIZER;CN="Chuck Chandler":MAILTO:cchandler@ccphilly.org
END:VEVENT
BEGIN:VEVENT
DTSTART;TZID=America/New_York:20250108T190000
DTEND;TZID=America/New_York:20250108T190000
DTSTAMP:20260421T111939
CREATED:20240509T142202Z
LAST-MODIFIED:20240509T142202Z
UID:3707-1736362800-1736362800@catalyst.ccphilly.org
SUMMARY:Bible Study
DESCRIPTION:
URL:https://catalyst.ccphilly.org/event/bible-study-56/
LOCATION:Calvary Chapel of Philadelphia\, 13500 Philmont Ave\, Philadelphia\, PA\, 19001\, United States
ORGANIZER;CN="Chuck Chandler":MAILTO:cchandler@ccphilly.org
END:VEVENT
BEGIN:VEVENT
DTSTART;TZID=America/New_York:20241221T190000
DTEND;TZID=America/New_York:20241221T220000
DTSTAMP:20260421T111939
CREATED:20240508T152238Z
LAST-MODIFIED:20240821T190501Z
UID:3622-1734807600-1734818400@catalyst.ccphilly.org
SUMMARY:Burger Ball
DESCRIPTION:Dodgeball Tournament
URL:https://catalyst.ccphilly.org/event/burger-ball/
LOCATION:Calvary Chapel of Philadelphia\, 13500 Philmont Ave\, Philadelphia\, PA\, 19001\, United States
CATEGORIES:Event
ORGANIZER;CN="Chuck Chandler":MAILTO:cchandler@ccphilly.org
END:VEVENT
BEGIN:VEVENT
DTSTART;TZID=America/New_York:20241218T190000
DTEND;TZID=America/New_York:20241218T190000
DTSTAMP:20260421T111939
CREATED:20240509T142135Z
LAST-MODIFIED:20240509T142135Z
UID:3706-1734548400-1734548400@catalyst.ccphilly.org
SUMMARY:Bible Study
DESCRIPTION:
URL:https://catalyst.ccphilly.org/event/bible-study-55/
LOCATION:Calvary Chapel of Philadelphia\, 13500 Philmont Ave\, Philadelphia\, PA\, 19001\, United States
ORGANIZER;CN="Chuck Chandler":MAILTO:cchandler@ccphilly.org
END:VEVENT
END:VCALENDAR